BEGIN:VCALENDAR
VERSION:2.0
PRODID:-//Castle Barna Golf Club - ECPv4.4.5//NONSGML v1.0//EN
CALSCALE:GREGORIAN
METHOD:PUBLISH
X-WR-CALNAME:Castle Barna Golf Club
X-ORIGINAL-URL:https://castlebarna.ie
X-WR-CALDESC:Events for Castle Barna Golf Club
BEGIN:VEVENT
DTSTART;VALUE=DATE:20161222
DTEND;VALUE=DATE:20161222
DTSTAMP:20171101T004708
CREATED:20151118T131226Z
LAST-MODIFIED:20151118T131226Z
UID:1179-1482364800-1482451199@castlebarna.ie
SUMMARY:Mens Thursday OPEN Singles Stableford
DESCRIPTION:
URL:https://castlebarna.ie/event/mens-thursday-open-singles-stableford-57/
LOCATION:Daingean\, Offaly\, Ireland
END:VEVENT
END:VCALENDAR