BEGIN:VCALENDAR
VERSION:2.0
PRODID:-//Castle Barna Golf Club - ECPv4.4.5//NONSGML v1.0//EN
CALSCALE:GREGORIAN
METHOD:PUBLISH
X-WR-CALNAME:Castle Barna Golf Club
X-ORIGINAL-URL:https://castlebarna.ie
X-WR-CALDESC:Events for Castle Barna Golf Club
BEGIN:VEVENT
DTSTART;TZID=Europe/London:20161214T100000
DTEND;TZID=Europe/London:20161214T101500
DTSTAMP:20171101T004510
CREATED:20151120T092725Z
LAST-MODIFIED:20151120T092725Z
UID:1520-1481709600-1481710500@castlebarna.ie
SUMMARY:Ladies 9 Hole
DESCRIPTION:
URL:https://castlebarna.ie/event/ladies-9-hole-69/
LOCATION:Daingean\, Offaly\, Ireland
END:VEVENT
END:VCALENDAR