BEGIN:VCALENDAR
VERSION:2.0
PRODID:-//Castle Barna Golf Club - ECPv4.4.5//NONSGML v1.0//EN
CALSCALE:GREGORIAN
METHOD:PUBLISH
X-WR-CALNAME:Castle Barna Golf Club
X-ORIGINAL-URL:https://castlebarna.ie
X-WR-CALDESC:Events for Castle Barna Golf Club
BEGIN:VEVENT
DTSTART;TZID=Europe/London:20161211T080000
DTEND;TZID=Europe/London:20161211T110000
DTSTAMP:20171101T004406
CREATED:20151120T092545Z
LAST-MODIFIED:20151120T092545Z
UID:1518-1481443200-1481454000@castlebarna.ie
SUMMARY:Mens Turkey Shoot Out  18 H S/Ford
DESCRIPTION:
URL:https://castlebarna.ie/event/mens-turkey-shoot-out-18-h-sford-2/
LOCATION:Daingean\, Offaly\, Ireland
END:VEVENT
END:VCALENDAR