BEGIN:VCALENDAR
VERSION:2.0
PRODID:-//Castle Barna Golf Club - ECPv4.4.5//NONSGML v1.0//EN
CALSCALE:GREGORIAN
METHOD:PUBLISH
X-WR-CALNAME:Castle Barna Golf Club
X-ORIGINAL-URL:https://castlebarna.ie
X-WR-CALDESC:Events for Castle Barna Golf Club
BEGIN:VEVENT
DTSTART;TZID=Europe/London:20161121T110000
DTEND;TZID=Europe/London:20161121T110000
DTSTAMP:20171101T010115
CREATED:20151120T091231Z
LAST-MODIFIED:20151120T091231Z
UID:1503-1479726000-1479726000@castlebarna.ie
SUMMARY:Ladies Beginner  9 Hole
DESCRIPTION:
URL:https://castlebarna.ie/event/ladies-beginner-9-hole-37/
LOCATION:Daingean\, Offaly\, Ireland
END:VEVENT
END:VCALENDAR