BEGIN:VCALENDAR
VERSION:2.0
PRODID:-//Castle Barna Golf Club - ECPv4.4.5//NONSGML v1.0//EN
CALSCALE:GREGORIAN
METHOD:PUBLISH
X-WR-CALNAME:Castle Barna Golf Club
X-ORIGINAL-URL:https://castlebarna.ie
X-WR-CALDESC:Events for Castle Barna Golf Club
BEGIN:VEVENT
DTSTART;TZID=Europe/London:20161112T003000
DTEND;TZID=Europe/London:20161112T003000
DTSTAMP:20171101T005823
CREATED:20151119T144358Z
LAST-MODIFIED:20151119T144358Z
UID:1495-1478910600-1478910600@castlebarna.ie
SUMMARY:Ladies 14 H Winter Hamper
DESCRIPTION:
URL:https://castlebarna.ie/event/ladies-14-h-winter-hamper-11/
LOCATION:Daingean\, Offaly\, Ireland
END:VEVENT
END:VCALENDAR