BEGIN:VCALENDAR
VERSION:2.0
PRODID:-//Castle Barna Golf Club - ECPv4.4.5//NONSGML v1.0//EN
CALSCALE:GREGORIAN
METHOD:PUBLISH
X-WR-CALNAME:Castle Barna Golf Club
X-ORIGINAL-URL:https://castlebarna.ie
X-WR-CALDESC:Events for Castle Barna Golf Club
BEGIN:VEVENT
DTSTART;TZID=Europe/London:20161104T100000
DTEND;TZID=Europe/London:20161104T100000
DTSTAMP:20171101T005557
CREATED:20151119T143825Z
LAST-MODIFIED:20151119T145113Z
UID:1488-1478253600-1478253600@castlebarna.ie
SUMMARY:Ladies 14 H Winter Hamper
DESCRIPTION:
URL:https://castlebarna.ie/event/ladies-14-h-winter-hamper-8/
LOCATION:Daingean\, Offaly\, Ireland
END:VEVENT
END:VCALENDAR