BEGIN:VCALENDAR
VERSION:2.0
PRODID:-//Castle Barna Golf Club - ECPv4.4.5//NONSGML v1.0//EN
CALSCALE:GREGORIAN
METHOD:PUBLISH
X-WR-CALNAME:Castle Barna Golf Club
X-ORIGINAL-URL:https://castlebarna.ie
X-WR-CALDESC:Events for Castle Barna Golf Club
BEGIN:VEVENT
DTSTART;VALUE=DATE:20161031
DTEND;VALUE=DATE:20161031
DTSTAMP:20171101T005442
CREATED:20151119T135540Z
LAST-MODIFIED:20151119T135540Z
UID:1459-1477872000-1477958399@castlebarna.ie
SUMMARY:FURLONG OPEN SINGLES S/FORD
DESCRIPTION:
URL:https://castlebarna.ie/event/furlong-open-singles-sford-2/
LOCATION:Daingean\, Offaly\, Ireland
END:VEVENT
END:VCALENDAR