BEGIN:VCALENDAR
VERSION:2.0
PRODID:-//Castle Barna Golf Club - ECPv4.4.5//NONSGML v1.0//EN
CALSCALE:GREGORIAN
METHOD:PUBLISH
X-WR-CALNAME:Castle Barna Golf Club
X-ORIGINAL-URL:https://castlebarna.ie
X-WR-CALDESC:Events for Castle Barna Golf Club
BEGIN:VEVENT
DTSTART;TZID=Europe/London:20160828T110000
DTEND;TZID=Europe/London:20160828T110000
DTSTAMP:20171031T082820
CREATED:20151119T124642Z
LAST-MODIFIED:20151119T124642Z
UID:1383-1472382000-1472382000@castlebarna.ie
SUMMARY:Presidents Prize & GOY Monthly Medal
DESCRIPTION:
URL:https://castlebarna.ie/event/presidents-prize-goy-monthly-medal/
LOCATION:Daingean\, Offaly\, Ireland
END:VEVENT
END:VCALENDAR