BEGIN:VCALENDAR
VERSION:2.0
PRODID:-//Castle Barna Golf Club - ECPv4.4.5//NONSGML v1.0//EN
CALSCALE:GREGORIAN
METHOD:PUBLISH
X-WR-CALNAME:Castle Barna Golf Club
X-ORIGINAL-URL:https://castlebarna.ie
X-WR-CALDESC:Events for Castle Barna Golf Club
BEGIN:VEVENT
DTSTART;TZID=Europe/London:20150611T000000
DTEND;TZID=Europe/London:20150612T000000
DTSTAMP:20171031T162616
CREATED:20150609T154900Z
LAST-MODIFIED:20150609T154900Z
UID:807-1433980800-1434067200@castlebarna.ie
SUMMARY:Open Singles (Ladies & Gents) Visitors Welcome
DESCRIPTION:Open Event. Weekly on Thursday
URL:https://castlebarna.ie/event/open-singles-ladies-gents-visitors-welcome/
LOCATION:Daingean\, Offaly\, Ireland
END:VEVENT
END:VCALENDAR