BEGIN:VCALENDAR
VERSION:2.0
PRODID:-//Castle Barna Golf Club - ECPv4.4.5//NONSGML v1.0//EN
CALSCALE:GREGORIAN
METHOD:PUBLISH
X-WR-CALNAME:Castle Barna Golf Club
X-ORIGINAL-URL:https://castlebarna.ie
X-WR-CALDESC:Events for Castle Barna Golf Club
BEGIN:VEVENT
DTSTART;TZID=Europe/London:20160809T090000
DTEND;TZID=Europe/London:20160809T100000
DTSTAMP:20171031T165131
CREATED:20151120T114610Z
LAST-MODIFIED:20151120T114610Z
UID:1735-1470733200-1470736800@castlebarna.ie
SUMMARY:Seniors OPEN
DESCRIPTION:Seniors Open (over 50’s) is held every Tuesday morning\, with a variety of competitions played.  Visitors welcome bring a friend or come alone everyone accommodated.
URL:https://castlebarna.ie/event/open-seniors-over-50s-team-event/2016-08-09/
LOCATION:Daingean\, Offaly\, Ireland
END:VEVENT
END:VCALENDAR