BEGIN:VCALENDAR
VERSION:2.0
PRODID:-//Castle Barna Golf Club - ECPv4.4.5//NONSGML v1.0//EN
CALSCALE:GREGORIAN
METHOD:PUBLISH
X-WR-CALNAME:Castle Barna Golf Club
X-ORIGINAL-URL:https://castlebarna.ie
X-WR-CALDESC:Events for Castle Barna Golf Club
BEGIN:VEVENT
DTSTART;TZID=Europe/London:20151201T090000
DTEND;TZID=Europe/London:20151201T095000
DTSTAMP:20171031T080310
CREATED:20151120T115613Z
LAST-MODIFIED:20151120T115726Z
UID:1585-1448960400-1448963400@castlebarna.ie
SUMMARY:Open Seniors (over 50's) Team Event
DESCRIPTION:Seniors Open (over 50’s) is held every Tuesday morning\, with a variety of competitions played.  Visitors welcome bring a friend or come alone everyone accommodated\n\n \n\n
URL:https://castlebarna.ie/event/open-seniors-over-50s-team-event-2/2015-12-01/
LOCATION:Daingean\, Offaly\, Ireland
END:VEVENT
END:VCALENDAR