BEGIN:VCALENDAR
VERSION:2.0
PRODID:-//Castle Barna Golf Club - ECPv4.4.5//NONSGML v1.0//EN
CALSCALE:GREGORIAN
METHOD:PUBLISH
X-WR-CALNAME:Castle Barna Golf Club
X-ORIGINAL-URL:https://castlebarna.ie
X-WR-CALDESC:Events for Castle Barna Golf Club
BEGIN:VEVENT
DTSTART;VALUE=DATE:20160429
DTEND;VALUE=DATE:20160429
DTSTAMP:20171031T080409
CREATED:20160129T122608Z
LAST-MODIFIED:20160129T122608Z
UID:1676-1461888000-1461974399@castlebarna.ie
SUMMARY:Noelle Interiors Ladies OPEN Single Stableford
DESCRIPTION:
URL:https://castlebarna.ie/event/noelle-interiors-ladies-open-single-stableford-4/
END:VEVENT
END:VCALENDAR