BEGIN:VCALENDAR
VERSION:2.0
PRODID:-//Castle Barna Golf Club - ECPv4.4.5//NONSGML v1.0//EN
CALSCALE:GREGORIAN
METHOD:PUBLISH
X-WR-CALNAME:Castle Barna Golf Club
X-ORIGINAL-URL:https://castlebarna.ie
X-WR-CALDESC:Events for Castle Barna Golf Club
BEGIN:VEVENT
DTSTART;TZID=Europe/London:20151122T080000
DTEND;TZID=Europe/London:20151122T110000
DTSTAMP:20171031T080221
CREATED:20151118T135323Z
LAST-MODIFIED:20151118T182609Z
UID:1183-1448179200-1448190000@castlebarna.ie
SUMMARY:Fitzpatricks Garage (Tullamore) Winter League Single Stableford
DESCRIPTION:
URL:https://castlebarna.ie/event/mens-winter-league-single-stableford/
LOCATION:Daingean\, Offaly\, Ireland
END:VEVENT
END:VCALENDAR