BEGIN:VCALENDAR
VERSION:2.0
PRODID:-//Castle Barna Golf Club - ECPv4.4.5//NONSGML v1.0//EN
CALSCALE:GREGORIAN
METHOD:PUBLISH
X-WR-CALNAME:Castle Barna Golf Club
X-ORIGINAL-URL:https://castlebarna.ie
X-WR-CALDESC:Events for Castle Barna Golf Club
BEGIN:VEVENT
DTSTART;TZID=Europe/London:20160131T082000
DTEND;TZID=Europe/London:20160131T233000
DTSTAMP:20171101T003241
CREATED:20151118T145931Z
LAST-MODIFIED:20151118T145931Z
UID:1212-1454228400-1454283000@castlebarna.ie
SUMMARY:Mens Winter League Single Stableford
DESCRIPTION:
URL:https://castlebarna.ie/event/mens-winter-league-single-stableford-3/
LOCATION:Daingean\, Offaly\, Ireland
END:VEVENT
END:VCALENDAR