BEGIN:VCALENDAR
VERSION:2.0
PRODID:-//Castle Barna Golf Club - ECPv4.4.5//NONSGML v1.0//EN
CALSCALE:GREGORIAN
METHOD:PUBLISH
X-WR-CALNAME:Castle Barna Golf Club
X-ORIGINAL-URL:https://castlebarna.ie
X-WR-CALDESC:Events for Castle Barna Golf Club
BEGIN:VEVENT
DTSTART;TZID=Europe/London:20160110T084500
DTEND;TZID=Europe/London:20160110T113000
DTSTAMP:20171031T162850
CREATED:20151118T144506Z
LAST-MODIFIED:20151118T144506Z
UID:1201-1452415500-1452425400@castlebarna.ie
SUMMARY:Mens Winter League Single Stableford
DESCRIPTION:
URL:https://castlebarna.ie/event/mens-winter-league-single-stableford-2/
LOCATION:Daingean\, Offaly\, Ireland
END:VEVENT
END:VCALENDAR