BEGIN:VCALENDAR
VERSION:2.0
PRODID:-//Castle Barna Golf Club - ECPv4.4.5//NONSGML v1.0//EN
CALSCALE:GREGORIAN
METHOD:PUBLISH
X-WR-CALNAME:Castle Barna Golf Club
X-ORIGINAL-URL:https://castlebarna.ie
X-WR-CALDESC:Events for Castle Barna Golf Club
BEGIN:VEVENT
DTSTART;VALUE=DATE:20160218
DTEND;VALUE=DATE:20160218
DTSTAMP:20171031T162746
CREATED:20151118T110618Z
LAST-MODIFIED:20151118T110618Z
UID:1130-1455753600-1455839999@castlebarna.ie
SUMMARY:Mens Thursday OPEN Singles Stableford
DESCRIPTION:
URL:https://castlebarna.ie/event/mens-thursday-open-singles-stableford-11/
LOCATION:Daingean\, Offaly\, Ireland
END:VEVENT
END:VCALENDAR