BEGIN:VCALENDAR
VERSION:2.0
PRODID:-//Castle Barna Golf Club - ECPv4.4.5//NONSGML v1.0//EN
CALSCALE:GREGORIAN
METHOD:PUBLISH
X-WR-CALNAME:Castle Barna Golf Club
X-ORIGINAL-URL:https://castlebarna.ie
X-WR-CALDESC:Events for Castle Barna Golf Club
BEGIN:VEVENT
DTSTART;VALUE=DATE:20160714
DTEND;VALUE=DATE:20160714
DTSTAMP:20171101T003146
CREATED:20151118T115514Z
LAST-MODIFIED:20151118T131754Z
UID:1153-1468454400-1468540799@castlebarna.ie
SUMMARY:Mens Thursday OPEN Singles Stableford
DESCRIPTION:
URL:https://castlebarna.ie/event/mens-thursday-open-singles-3/
LOCATION:Daingean\, Offaly\, Ireland
END:VEVENT
END:VCALENDAR