BEGIN:VCALENDAR
VERSION:2.0
PRODID:-//Castle Barna Golf Club - ECPv4.4.5//NONSGML v1.0//EN
CALSCALE:GREGORIAN
METHOD:PUBLISH
X-WR-CALNAME:Castle Barna Golf Club
X-ORIGINAL-URL:https://castlebarna.ie
X-WR-CALDESC:Events for Castle Barna Golf Club
BEGIN:VEVENT
DTSTART;TZID=Europe/London:20151129T082000
DTEND;TZID=Europe/London:20151129T110000
DTSTAMP:20171031T084041
CREATED:20151118T135933Z
LAST-MODIFIED:20151118T135933Z
UID:1186-1448785200-1448794800@castlebarna.ie
SUMMARY:Mens Single Stableford
DESCRIPTION:
URL:https://castlebarna.ie/event/mens-single-stableford/
LOCATION:Daingean\, Offaly\, Ireland
END:VEVENT
END:VCALENDAR