BEGIN:VCALENDAR
VERSION:2.0
PRODID:-//Castle Barna Golf Club - ECPv4.4.5//NONSGML v1.0//EN
CALSCALE:GREGORIAN
METHOD:PUBLISH
X-WR-CALNAME:Castle Barna Golf Club
X-ORIGINAL-URL:https://castlebarna.ie
X-WR-CALDESC:Events for Castle Barna Golf Club
BEGIN:VEVENT
DTSTART;TZID=Europe/London:20160207T080500
DTEND;TZID=Europe/London:20160207T233000
DTSTAMP:20171101T003215
CREATED:20151118T150311Z
LAST-MODIFIED:20151118T150311Z
UID:1215-1454832300-1454887800@castlebarna.ie
SUMMARY:Mens Single Stableford
DESCRIPTION:
URL:https://castlebarna.ie/event/mens-single-stableford-4/
LOCATION:Daingean\, Offaly\, Ireland
END:VEVENT
END:VCALENDAR