BEGIN:VCALENDAR
VERSION:2.0
PRODID:-//Castle Barna Golf Club - ECPv4.4.5//NONSGML v1.0//EN
CALSCALE:GREGORIAN
METHOD:PUBLISH
X-WR-CALNAME:Castle Barna Golf Club
X-ORIGINAL-URL:https://castlebarna.ie
X-WR-CALDESC:Events for Castle Barna Golf Club
BEGIN:VEVENT
DTSTART;VALUE=DATE:20160430
DTEND;VALUE=DATE:20160430
DTSTAMP:20171031T164213
CREATED:20151119T110243Z
LAST-MODIFIED:20151119T110243Z
UID:1287-1461974400-1462060799@castlebarna.ie
SUMMARY:MENS OPEN SINGLE STABLEFORD
DESCRIPTION:
URL:https://castlebarna.ie/event/mens-open-single-stableford/
LOCATION:Daingean\, Offaly\, Ireland
END:VEVENT
END:VCALENDAR