BEGIN:VCALENDAR
VERSION:2.0
PRODID:-//Castle Barna Golf Club - ECPv4.4.5//NONSGML v1.0//EN
CALSCALE:GREGORIAN
METHOD:PUBLISH
X-WR-CALNAME:Castle Barna Golf Club
X-ORIGINAL-URL:https://castlebarna.ie
X-WR-CALDESC:Events for Castle Barna Golf Club
BEGIN:VEVENT
DTSTART;TZID=Europe/London:20160327T070000
DTEND;TZID=Europe/London:20160327T110000
DTSTAMP:20171031T081204
CREATED:20151119T114812Z
LAST-MODIFIED:20160129T104805Z
UID:1311-1459062000-1459076400@castlebarna.ie
SUMMARY:Maloney Maintenance Services Mens OPEN Fourball Better Ball
DESCRIPTION:
URL:https://castlebarna.ie/event/mens-open-fourball-better-ball-3/
LOCATION:Daingean\, Offaly\, Ireland
END:VEVENT
END:VCALENDAR