BEGIN:VCALENDAR
VERSION:2.0
PRODID:-//Castle Barna Golf Club - ECPv4.4.5//NONSGML v1.0//EN
CALSCALE:GREGORIAN
METHOD:PUBLISH
X-WR-CALNAME:Castle Barna Golf Club
X-ORIGINAL-URL:https://castlebarna.ie
X-WR-CALDESC:Events for Castle Barna Golf Club
BEGIN:VEVENT
DTSTART;TZID=Europe/London:20160410T070000
DTEND;TZID=Europe/London:20160410T110000
DTSTAMP:20171031T163654
CREATED:20151119T104343Z
LAST-MODIFIED:20151119T104343Z
UID:1259-1460271600-1460286000@castlebarna.ie
SUMMARY:Mens Fourball Matchplay Entry &  Qualifier
DESCRIPTION:
URL:https://castlebarna.ie/event/mens-fourball-matchplay-entry-qualifier/
LOCATION:Daingean\, Offaly\, Ireland
END:VEVENT
END:VCALENDAR