BEGIN:VCALENDAR
VERSION:2.0
PRODID:-//Castle Barna Golf Club - ECPv4.4.5//NONSGML v1.0//EN
CALSCALE:GREGORIAN
METHOD:PUBLISH
X-WR-CALNAME:Castle Barna Golf Club
X-ORIGINAL-URL:https://castlebarna.ie
X-WR-CALDESC:Events for Castle Barna Golf Club
BEGIN:VEVENT
DTSTART;TZID=Europe/London:20160306T080000
DTEND;TZID=Europe/London:20160306T113000
DTSTAMP:20171031T080715
CREATED:20151119T105718Z
LAST-MODIFIED:20160129T100858Z
UID:1278-1457251200-1457263800@castlebarna.ie
SUMMARY:Walsh Plumbing & Heating Supplies Mens Single Stableford
DESCRIPTION:
URL:https://castlebarna.ie/event/mens-18-hole-stableford/
LOCATION:Daingean\, Offaly\, Ireland
END:VEVENT
END:VCALENDAR