BEGIN:VCALENDAR
VERSION:2.0
PRODID:-//Castle Barna Golf Club - ECPv4.4.5//NONSGML v1.0//EN
CALSCALE:GREGORIAN
METHOD:PUBLISH
X-WR-CALNAME:Castle Barna Golf Club
X-ORIGINAL-URL:https://castlebarna.ie
X-WR-CALDESC:Events for Castle Barna Golf Club
BEGIN:VEVENT
DTSTART;TZID=Europe/London:20161009T070000
DTEND;TZID=Europe/London:20161009T110000
DTSTAMP:20171101T005404
CREATED:20151119T133447Z
LAST-MODIFIED:20151119T133447Z
UID:1441-1475996400-1476010800@castlebarna.ie
SUMMARY:Mens 18 H S S/ford  No Alibis  (Full Handicaps)
DESCRIPTION:
URL:https://castlebarna.ie/event/mens-18-h-s-sford-no-alibis-full-handicaps/
LOCATION:Daingean\, Offaly\, Ireland
END:VEVENT
END:VCALENDAR