BEGIN:VCALENDAR
VERSION:2.0
PRODID:-//Castle Barna Golf Club - ECPv4.4.5//NONSGML v1.0//EN
CALSCALE:GREGORIAN
METHOD:PUBLISH
X-WR-CALNAME:Castle Barna Golf Club
X-ORIGINAL-URL:https://castlebarna.ie
X-WR-CALDESC:Events for Castle Barna Golf Club
BEGIN:VEVENT
DTSTART;TZID=Europe/London:20161023T080000
DTEND;TZID=Europe/London:20161023T110000
DTSTAMP:20171101T003446
CREATED:20151119T135055Z
LAST-MODIFIED:20151119T135055Z
UID:1454-1477209600-1477220400@castlebarna.ie
SUMMARY:Mens 18 H S S/ford FREE Sub Competition Open for Entries
DESCRIPTION:
URL:https://castlebarna.ie/event/mens-18-h-s-sford-free-sub-competition-open-for-entries/
LOCATION:Daingean\, Offaly\, Ireland
END:VEVENT
END:VCALENDAR