BEGIN:VCALENDAR
VERSION:2.0
PRODID:-//Castle Barna Golf Club - ECPv4.4.5//NONSGML v1.0//EN
CALSCALE:GREGORIAN
METHOD:PUBLISH
X-WR-CALNAME:Castle Barna Golf Club
X-ORIGINAL-URL:https://castlebarna.ie
X-WR-CALDESC:Events for Castle Barna Golf Club
BEGIN:VEVENT
DTSTART;TZID=Europe/London:20160625T123000
DTEND;TZID=Europe/London:20160625T140000
DTSTAMP:20171031T163459
CREATED:20151119T131248Z
LAST-MODIFIED:20160212T125233Z
UID:1403-1466857800-1466863200@castlebarna.ie
SUMMARY:Patrica Mahon's Lady Captain's Prize Round 2 Combined 36 Hole GOY
DESCRIPTION:
URL:https://castlebarna.ie/event/lady-captains-prize-18-h-stroke-accum/
LOCATION:Daingean\, Offaly\, Ireland
END:VEVENT
END:VCALENDAR