BEGIN:VCALENDAR
VERSION:2.0
PRODID:-//Castle Barna Golf Club - ECPv4.4.5//NONSGML v1.0//EN
CALSCALE:GREGORIAN
METHOD:PUBLISH
X-WR-CALNAME:Castle Barna Golf Club
X-ORIGINAL-URL:https://castlebarna.ie
X-WR-CALDESC:Events for Castle Barna Golf Club
BEGIN:VEVENT
DTSTART;TZID=Europe/London:20170509T180000
DTEND;TZID=Europe/London:20170509T200000
DTSTAMP:20171030T184405
CREATED:20170426T162950Z
LAST-MODIFIED:20170426T162950Z
UID:2371-1494352800-1494360000@castlebarna.ie
SUMMARY:Lady Beginner Golf Evenings
DESCRIPTION:
URL:https://castlebarna.ie/event/lady-beginner-golf-evenings/2017-05-09/
END:VEVENT
END:VCALENDAR