BEGIN:VCALENDAR
VERSION:2.0
PRODID:-//Castle Barna Golf Club - ECPv4.4.5//NONSGML v1.0//EN
CALSCALE:GREGORIAN
METHOD:PUBLISH
X-WR-CALNAME:Castle Barna Golf Club
X-ORIGINAL-URL:https://castlebarna.ie
X-WR-CALDESC:Events for Castle Barna Golf Club
BEGIN:VEVENT
DTSTART;TZID=Europe/London:20160822T110000
DTEND;TZID=Europe/London:20160822T110000
DTSTAMP:20171031T081351
CREATED:20151119T124130Z
LAST-MODIFIED:20151119T124130Z
UID:1374-1471863600-1471863600@castlebarna.ie
SUMMARY:Ladies Beginner  9 Hole
DESCRIPTION:
URL:https://castlebarna.ie/event/ladies-beginner-9-hole-17/
LOCATION:Daingean\, Offaly\, Ireland
END:VEVENT
END:VCALENDAR