BEGIN:VCALENDAR
VERSION:2.0
PRODID:-//Castle Barna Golf Club - ECPv4.4.5//NONSGML v1.0//EN
CALSCALE:GREGORIAN
METHOD:PUBLISH
X-WR-CALNAME:Castle Barna Golf Club
X-ORIGINAL-URL:https://castlebarna.ie
X-WR-CALDESC:Events for Castle Barna Golf Club
BEGIN:VEVENT
DTSTART;TZID=Europe/London:20160530T110000
DTEND;TZID=Europe/London:20160530T110000
DTSTAMP:20171031T164734
CREATED:20151119T120729Z
LAST-MODIFIED:20151119T120729Z
UID:1337-1464606000-1464606000@castlebarna.ie
SUMMARY:Ladies Beginner  9 Hole
DESCRIPTION:
URL:https://castlebarna.ie/event/ladies-beginner-9-hole-14/
LOCATION:Daingean\, Offaly\, Ireland
END:VEVENT
END:VCALENDAR