BEGIN:VCALENDAR
VERSION:2.0
PRODID:-//Castle Barna Golf Club - ECPv4.4.5//NONSGML v1.0//EN
CALSCALE:GREGORIAN
METHOD:PUBLISH
X-WR-CALNAME:Castle Barna Golf Club
X-ORIGINAL-URL:https://castlebarna.ie
X-WR-CALDESC:Events for Castle Barna Golf Club
BEGIN:VEVENT
DTSTART;TZID=Europe/London:20160420T100000
DTEND;TZID=Europe/London:20160420T101500
DTSTAMP:20171031T164252
CREATED:20151119T105033Z
LAST-MODIFIED:20151119T105033Z
UID:1270-1461146400-1461147300@castlebarna.ie
SUMMARY:Ladies 9 Hole
DESCRIPTION:
URL:https://castlebarna.ie/event/ladies-9-hole-9/
LOCATION:Daingean\, Offaly\, Ireland
END:VEVENT
END:VCALENDAR