BEGIN:VCALENDAR
VERSION:2.0
PRODID:-//Castle Barna Golf Club - ECPv4.4.5//NONSGML v1.0//EN
CALSCALE:GREGORIAN
METHOD:PUBLISH
X-WR-CALNAME:Castle Barna Golf Club
X-ORIGINAL-URL:https://castlebarna.ie
X-WR-CALDESC:Events for Castle Barna Golf Club
BEGIN:VEVENT
DTSTART;TZID=Europe/London:20160803T170000
DTEND;TZID=Europe/London:20160803T170000
DTSTAMP:20171031T165123
CREATED:20151119T121021Z
LAST-MODIFIED:20151119T121021Z
UID:1341-1470243600-1470243600@castlebarna.ie
SUMMARY:Ladies 9 Hole
DESCRIPTION:
URL:https://castlebarna.ie/event/ladies-9-hole-27/
LOCATION:Daingean\, Offaly\, Ireland
END:VEVENT
END:VCALENDAR