BEGIN:VCALENDAR
VERSION:2.0
PRODID:-//Castle Barna Golf Club - ECPv4.4.5//NONSGML v1.0//EN
CALSCALE:GREGORIAN
METHOD:PUBLISH
X-WR-CALNAME:Castle Barna Golf Club
X-ORIGINAL-URL:https://castlebarna.ie
X-WR-CALDESC:Events for Castle Barna Golf Club
BEGIN:VEVENT
DTSTART;TZID=Europe/London:20160305T133000
DTEND;TZID=Europe/London:20160305T133500
DTSTAMP:20171031T080532
CREATED:20151119T105535Z
LAST-MODIFIED:20160129T095527Z
UID:1274-1457184600-1457184900@castlebarna.ie
SUMMARY:Ladies 3 Ball Reverse Rumble
DESCRIPTION:
URL:https://castlebarna.ie/event/ladies-3-ball-waltz/
LOCATION:Daingean\, Offaly\, Ireland
END:VEVENT
END:VCALENDAR