BEGIN:VCALENDAR
VERSION:2.0
PRODID:-//Castle Barna Golf Club - ECPv4.4.5//NONSGML v1.0//EN
CALSCALE:GREGORIAN
METHOD:PUBLISH
X-WR-CALNAME:Castle Barna Golf Club
X-ORIGINAL-URL:https://castlebarna.ie
X-WR-CALDESC:Events for Castle Barna Golf Club
BEGIN:VEVENT
DTSTART;TZID=Europe/London:20150613T083000
DTEND;TZID=Europe/London:20150613T090000
DTSTAMP:20171031T083906
CREATED:20150609T154344Z
LAST-MODIFIED:20150609T154344Z
UID:805-1434184200-1434186000@castlebarna.ie
SUMMARY:Ladies 18 Hole Criss Cross
DESCRIPTION:New ladies always welcome.
URL:https://castlebarna.ie/event/ladies-18-hole-criss-cross/
LOCATION:Daingean\, Offaly\, Ireland
END:VEVENT
END:VCALENDAR