BEGIN:VCALENDAR
VERSION:2.0
PRODID:-//Castle Barna Golf Club - ECPv4.4.5//NONSGML v1.0//EN
CALSCALE:GREGORIAN
METHOD:PUBLISH
X-WR-CALNAME:Castle Barna Golf Club
X-ORIGINAL-URL:https://castlebarna.ie
X-WR-CALDESC:Events for Castle Barna Golf Club
BEGIN:VEVENT
DTSTART;TZID=Europe/London:20160514T083000
DTEND;TZID=Europe/London:20160514T123000
DTSTAMP:20171031T081242
CREATED:20151119T115013Z
LAST-MODIFIED:20160129T134817Z
UID:1314-1463214600-1463229000@castlebarna.ie
SUMMARY:Hair Flair Ladies 18 Hole Single Stableford GOY
DESCRIPTION:
URL:https://castlebarna.ie/event/ladies-18-h-single-sford-goy-2/
LOCATION:Daingean\, Offaly\, Ireland
END:VEVENT
END:VCALENDAR