BEGIN:VCALENDAR
VERSION:2.0
PRODID:-//Castle Barna Golf Club - ECPv4.4.5//NONSGML v1.0//EN
CALSCALE:GREGORIAN
METHOD:PUBLISH
X-WR-CALNAME:Castle Barna Golf Club
X-ORIGINAL-URL:https://castlebarna.ie
X-WR-CALDESC:Events for Castle Barna Golf Club
BEGIN:VEVENT
DTSTART;TZID=Europe/London:20160820T083000
DTEND;TZID=Europe/London:20160820T093000
DTSTAMP:20171031T082652
CREATED:20151119T123949Z
LAST-MODIFIED:20160212T143729Z
UID:1370-1471681800-1471685400@castlebarna.ie
SUMMARY:J & M Jewellers Ladies 18 H S Stroke GOY
DESCRIPTION:
URL:https://castlebarna.ie/event/ladies-18-h-s-stroke-goy-3/
LOCATION:Daingean\, Offaly\, Ireland
END:VEVENT
END:VCALENDAR