BEGIN:VCALENDAR
VERSION:2.0
PRODID:-//Castle Barna Golf Club - ECPv4.4.5//NONSGML v1.0//EN
CALSCALE:GREGORIAN
METHOD:PUBLISH
X-WR-CALNAME:Castle Barna Golf Club
X-ORIGINAL-URL:https://castlebarna.ie
X-WR-CALDESC:Events for Castle Barna Golf Club
BEGIN:VEVENT
DTSTART;TZID=Europe/London:20160819T160000
DTEND;TZID=Europe/London:20160819T160000
DTSTAMP:20171031T082626
CREATED:20151119T123858Z
LAST-MODIFIED:20160212T143608Z
UID:1369-1471622400-1471622400@castlebarna.ie
SUMMARY:J & M Jewellers Ladies 18 H S Stroke GOY
DESCRIPTION:
URL:https://castlebarna.ie/event/ladies-18-h-s-stroke-goy-2/
LOCATION:Daingean\, Offaly\, Ireland
END:VEVENT
END:VCALENDAR