BEGIN:VCALENDAR
VERSION:2.0
PRODID:-//Castle Barna Golf Club - ECPv4.4.5//NONSGML v1.0//EN
CALSCALE:GREGORIAN
METHOD:PUBLISH
X-WR-CALNAME:Castle Barna Golf Club
X-ORIGINAL-URL:https://castlebarna.ie
X-WR-CALDESC:Events for Castle Barna Golf Club
BEGIN:VEVENT
DTSTART;TZID=Europe/London:20160402T083000
DTEND;TZID=Europe/London:20160402T210000
DTSTAMP:20171031T163911
CREATED:20151119T103424Z
LAST-MODIFIED:20151119T103424Z
UID:1248-1459585800-1459630800@castlebarna.ie
SUMMARY:Ladies 18 H S S/ford
DESCRIPTION:
URL:https://castlebarna.ie/event/ladies-18-h-s-sford-2/
LOCATION:Daingean\, Offaly\, Ireland
END:VEVENT
END:VCALENDAR