BEGIN:VCALENDAR
VERSION:2.0
PRODID:-//Castle Barna Golf Club - ECPv4.4.5//NONSGML v1.0//EN
CALSCALE:GREGORIAN
METHOD:PUBLISH
X-WR-CALNAME:Castle Barna Golf Club
X-ORIGINAL-URL:https://castlebarna.ie
X-WR-CALDESC:Events for Castle Barna Golf Club
BEGIN:VEVENT
DTSTART;TZID=Europe/London:20160930T100000
DTEND;TZID=Europe/London:20160930T101500
DTSTAMP:20171031T162010
CREATED:20151119T132530Z
LAST-MODIFIED:20151119T132530Z
UID:1428-1475229600-1475230500@castlebarna.ie
SUMMARY:Ladies 18 H Christmas Hamper
DESCRIPTION:
URL:https://castlebarna.ie/event/ladies-18-h-christmas-hamper/
LOCATION:Daingean\, Offaly\, Ireland
END:VEVENT
END:VCALENDAR