BEGIN:VCALENDAR
VERSION:2.0
PRODID:-//Castle Barna Golf Club - ECPv4.4.5//NONSGML v1.0//EN
CALSCALE:GREGORIAN
METHOD:PUBLISH
X-WR-CALNAME:Castle Barna Golf Club
X-ORIGINAL-URL:https://castlebarna.ie
X-WR-CALDESC:Events for Castle Barna Golf Club
BEGIN:VEVENT
DTSTART;TZID=Europe/London:20150612T100000
DTEND;TZID=Europe/London:20150612T101500
DTSTAMP:20171031T162714
CREATED:20150609T153945Z
LAST-MODIFIED:20150609T153945Z
UID:803-1434103200-1434104100@castlebarna.ie
SUMMARY:Ladies 14 Hole Stableford
DESCRIPTION:New ladies always welcome.
URL:https://castlebarna.ie/event/ladies-14-hole-stableford/
LOCATION:Daingean\, Offaly\, Ireland
END:VEVENT
END:VCALENDAR