BEGIN:VCALENDAR
VERSION:2.0
PRODID:-//Castle Barna Golf Club - ECPv4.4.5//NONSGML v1.0//EN
CALSCALE:GREGORIAN
METHOD:PUBLISH
X-WR-CALNAME:Castle Barna Golf Club
X-ORIGINAL-URL:https://castlebarna.ie
X-WR-CALDESC:Events for Castle Barna Golf Club
BEGIN:VEVENT
DTSTART;TZID=Europe/London:20160102T120000
DTEND;TZID=Europe/London:20160102T122000
DTSTAMP:20171031T080258
CREATED:20151118T143742Z
LAST-MODIFIED:20151118T152041Z
UID:1196-1451736000-1451737200@castlebarna.ie
SUMMARY:Ladies 12 Hole Winter League
DESCRIPTION:
URL:https://castlebarna.ie/event/ladies-14-h-winter-hamper-7/
LOCATION:Daingean\, Offaly\, Ireland
END:VEVENT
END:VCALENDAR