BEGIN:VCALENDAR
VERSION:2.0
PRODID:-//Castle Barna Golf Club - ECPv4.4.5//NONSGML v1.0//EN
CALSCALE:GREGORIAN
METHOD:PUBLISH
X-WR-CALNAME:Castle Barna Golf Club
X-ORIGINAL-URL:https://castlebarna.ie
X-WR-CALDESC:Events for Castle Barna Golf Club
BEGIN:VEVENT
DTSTART;TZID=Europe/London:20151128T123000
DTEND;TZID=Europe/London:20151128T125000
DTSTAMP:20171031T080236
CREATED:20151118T135514Z
LAST-MODIFIED:20151118T135840Z
UID:1184-1448713800-1448715000@castlebarna.ie
SUMMARY:Ladies 14 H Winter Hamper
DESCRIPTION:
URL:https://castlebarna.ie/event/ladies-14-h-winter-hamper-3/
LOCATION:Daingean\, Offaly\, Ireland
END:VEVENT
END:VCALENDAR