BEGIN:VCALENDAR
VERSION:2.0
PRODID:-//Castle Barna Golf Club - ECPv4.4.5//NONSGML v1.0//EN
CALSCALE:GREGORIAN
METHOD:PUBLISH
X-WR-CALNAME:Castle Barna Golf Club
X-ORIGINAL-URL:https://castlebarna.ie
X-WR-CALDESC:Events for Castle Barna Golf Club
BEGIN:VEVENT
DTSTART;TZID=Europe/London:20160115T100000
DTEND;TZID=Europe/London:20160115T102000
DTSTAMP:20171031T162858
CREATED:20151118T144645Z
LAST-MODIFIED:20151118T144645Z
UID:1202-1452852000-1452853200@castlebarna.ie
SUMMARY:Ladies 12 Hole Winter League
DESCRIPTION:
URL:https://castlebarna.ie/event/ladies-12-hole-winter-league-4/
LOCATION:Daingean\, Offaly\, Ireland
END:VEVENT
END:VCALENDAR