BEGIN:VCALENDAR
VERSION:2.0
PRODID:-//Castle Barna Golf Club - ECPv4.4.5//NONSGML v1.0//EN
CALSCALE:GREGORIAN
METHOD:PUBLISH
X-WR-CALNAME:Castle Barna Golf Club
X-ORIGINAL-URL:https://castlebarna.ie
X-WR-CALDESC:Events for Castle Barna Golf Club
BEGIN:VEVENT
DTSTART;TZID=Europe/London:20160206T120000
DTEND;TZID=Europe/London:20160206T122000
DTSTAMP:20171101T003043
CREATED:20151118T150201Z
LAST-MODIFIED:20151118T150201Z
UID:1214-1454760000-1454761200@castlebarna.ie
SUMMARY:Ladies 12 Hole Winter League
DESCRIPTION:
URL:https://castlebarna.ie/event/ladies-12-hole-winter-league-11/
LOCATION:Daingean\, Offaly\, Ireland
END:VEVENT
END:VCALENDAR