BEGIN:VCALENDAR
VERSION:2.0
PRODID:-//Castle Barna Golf Club - ECPv4.4.5//NONSGML v1.0//EN
CALSCALE:GREGORIAN
METHOD:PUBLISH
X-WR-CALNAME:Castle Barna Golf Club
X-ORIGINAL-URL:https://castlebarna.ie
X-WR-CALDESC:Events for Castle Barna Golf Club
BEGIN:VEVENT
DTSTART;TZID=Europe/London:20160612T133000
DTEND;TZID=Europe/London:20160612T150000
DTSTAMP:20171031T082608
CREATED:20151119T123918Z
LAST-MODIFIED:20160212T122231Z
UID:1368-1465738200-1465743600@castlebarna.ie
SUMMARY:GUI Pierce Purcell Shield Inter Club Matches
DESCRIPTION:
URL:https://castlebarna.ie/event/gui-pierce-purcell-shield-inter-club-matches-2/
LOCATION:Daingean\, Offaly\, Ireland
END:VEVENT
END:VCALENDAR