BEGIN:VCALENDAR
VERSION:2.0
PRODID:-//Castle Barna Golf Club - ECPv4.4.5//NONSGML v1.0//EN
CALSCALE:GREGORIAN
METHOD:PUBLISH
X-WR-CALNAME:Castle Barna Golf Club
X-ORIGINAL-URL:https://castlebarna.ie
X-WR-CALDESC:Events for Castle Barna Golf Club
BEGIN:VEVENT
DTSTART;TZID=Europe/London:20160612T074000
DTEND;TZID=Europe/London:20160612T091500
DTSTAMP:20171031T081422
CREATED:20151119T124128Z
LAST-MODIFIED:20160129T151831Z
UID:1373-1465717200-1465722900@castlebarna.ie
SUMMARY:GUI Pierce Purcell Shield
DESCRIPTION:
URL:https://castlebarna.ie/event/gui-pierce-purcell-shield-final/
LOCATION:Daingean\, Offaly\, Ireland
END:VEVENT
END:VCALENDAR