BEGIN:VCALENDAR
VERSION:2.0
PRODID:-//Castle Barna Golf Club - ECPv4.4.5//NONSGML v1.0//EN
CALSCALE:GREGORIAN
METHOD:PUBLISH
X-WR-CALNAME:Castle Barna Golf Club
X-ORIGINAL-URL:https://castlebarna.ie
X-WR-CALDESC:Events for Castle Barna Golf Club
BEGIN:VEVENT
DTSTART;TZID=Europe/London:20160821T090000
DTEND;TZID=Europe/London:20160821T170000
DTSTAMP:20171031T081321
CREATED:20160212T144439Z
LAST-MODIFIED:20160212T144439Z
UID:1818-1471770000-1471798800@castlebarna.ie
SUMMARY:Club Championship (9 Handicap or Better - 27 Holes)
DESCRIPTION:
URL:https://castlebarna.ie/event/club-championship-9-handicap-or-better-27-holes-2/
END:VEVENT
END:VCALENDAR