BEGIN:VCALENDAR
VERSION:2.0
PRODID:-//Castle Barna Golf Club - ECPv4.4.5//NONSGML v1.0//EN
CALSCALE:GREGORIAN
METHOD:PUBLISH
X-WR-CALNAME:Castle Barna Golf Club
X-ORIGINAL-URL:https://castlebarna.ie
X-WR-CALDESC:Events for Castle Barna Golf Club
BEGIN:VEVENT
DTSTART;VALUE=DATE:20160722
DTEND;VALUE=DATE:20160722
DTSTAMP:20171031T165405
CREATED:20160212T135840Z
LAST-MODIFIED:20160212T135916Z
UID:1807-1469145600-1469231999@castlebarna.ie
SUMMARY:Castle Barna Ladies Trophy Inter Club Match
DESCRIPTION:
URL:https://castlebarna.ie/event/castle-barna-ladies-trophy-inter-club-match/
END:VEVENT
END:VCALENDAR