BEGIN:VCALENDAR
VERSION:2.0
PRODID:-//Castle Barna Golf Club - ECPv4.4.5//NONSGML v1.0//EN
CALSCALE:GREGORIAN
METHOD:PUBLISH
X-WR-CALNAME:Castle Barna Golf Club
X-ORIGINAL-URL:https://castlebarna.ie
X-WR-CALDESC:Events for Castle Barna Golf Club
BEGIN:VEVENT
DTSTART;TZID=Europe/London:20160724T123000
DTEND;TZID=Europe/London:20160724T123000
DTSTAMP:20171101T005325
CREATED:20151119T141658Z
LAST-MODIFIED:20151119T141658Z
UID:1478-1469363400-1469363400@castlebarna.ie
SUMMARY:Captains Prize to Juniors
DESCRIPTION:
URL:https://castlebarna.ie/event/captains-prize-to-juniors/
LOCATION:Daingean\, Offaly\, Ireland
END:VEVENT
END:VCALENDAR